BEGIN:VCALENDAR
VERSION:2.0
PRODID:-//Hanya Oversby - ECPv6.15.20//NONSGML v1.0//EN
CALSCALE:GREGORIAN
METHOD:PUBLISH
X-WR-CALNAME:Hanya Oversby
X-ORIGINAL-URL:https://hanyaoversby.com.au
X-WR-CALDESC:Events for Hanya Oversby
REFRESH-INTERVAL;VALUE=DURATION:PT1H
X-Robots-Tag:noindex
X-PUBLISHED-TTL:PT1H
BEGIN:VTIMEZONE
TZID:Australia/Melbourne
BEGIN:STANDARD
TZOFFSETFROM:+1100
TZOFFSETTO:+1000
TZNAME:AEST
DTSTART:20210403T160000
END:STANDARD
BEGIN:DAYLIGHT
TZOFFSETFROM:+1000
TZOFFSETTO:+1100
TZNAME:AEDT
DTSTART:20211002T160000
END:DAYLIGHT
BEGIN:STANDARD
TZOFFSETFROM:+1100
TZOFFSETTO:+1000
TZNAME:AEST
DTSTART:20220402T160000
END:STANDARD
BEGIN:DAYLIGHT
TZOFFSETFROM:+1000
TZOFFSETTO:+1100
TZNAME:AEDT
DTSTART:20221001T160000
END:DAYLIGHT
BEGIN:STANDARD
TZOFFSETFROM:+1100
TZOFFSETTO:+1000
TZNAME:AEST
DTSTART:20230401T160000
END:STANDARD
BEGIN:DAYLIGHT
TZOFFSETFROM:+1000
TZOFFSETTO:+1100
TZNAME:AEDT
DTSTART:20230930T160000
END:DAYLIGHT
BEGIN:STANDARD
TZOFFSETFROM:+1100
TZOFFSETTO:+1000
TZNAME:AEST
DTSTART:20240406T160000
END:STANDARD
BEGIN:DAYLIGHT
TZOFFSETFROM:+1000
TZOFFSETTO:+1100
TZNAME:AEDT
DTSTART:20241005T160000
END:DAYLIGHT
BEGIN:STANDARD
TZOFFSETFROM:+1100
TZOFFSETTO:+1000
TZNAME:AEST
DTSTART:20250405T160000
END:STANDARD
BEGIN:DAYLIGHT
TZOFFSETFROM:+1000
TZOFFSETTO:+1100
TZNAME:AEDT
DTSTART:20251004T160000
END:DAYLIGHT
BEGIN:STANDARD
TZOFFSETFROM:+1100
TZOFFSETTO:+1000
TZNAME:AEST
DTSTART:20260404T160000
END:STANDARD
BEGIN:DAYLIGHT
TZOFFSETFROM:+1000
TZOFFSETTO:+1100
TZNAME:AEDT
DTSTART:20261003T160000
END:DAYLIGHT
END:VTIMEZONE
BEGIN:VEVENT
DTSTART;TZID=Australia/Melbourne:20250321T090000
DTEND;TZID=Australia/Melbourne:20250321T170000
DTSTAMP:20260420T193251
CREATED:20250307T054906Z
LAST-MODIFIED:20250307T054906Z
UID:10000102-1742547600-1742576400@hanyaoversby.com.au
SUMMARY:ASCD Symposium
DESCRIPTION:The 2025 ASCD program features a dynamic\, multi-day structure designed to optimise learning and engagement. This innovative layout balances themed workshops\, plenary sessions\, and small-group teaching\, offering a rich\, hands-on experience for attendees.
URL:https://hanyaoversby.com.au/event/ascd-symposium/
LOCATION:Crown Conference Centre Melbourne\, 8 Whiteman Street\, Southbank\, Victoria\, 3006\, Australia
CATEGORIES:Conference
ATTACH;FMTTYPE=image/jpeg:https://hanyaoversby.com.au/wp-content/uploads/2025/03/ascd-symposium-2025.jpg
END:VEVENT
BEGIN:VEVENT
DTSTART;TZID=Australia/Melbourne:20241117T090000
DTEND;TZID=Australia/Melbourne:20241117T170000
DTSTAMP:20260420T193251
CREATED:20250307T054237Z
LAST-MODIFIED:20250307T054237Z
UID:10000101-1731834000-1731862800@hanyaoversby.com.au
SUMMARY:Emerging Trends in Cosmetic Dermatology
DESCRIPTION:ASCD are proud to present the Emerging Trends In Cosmetic Dermatology Symposium for 2024. \nAfter the resounding success of our 2023 ASCD ETCD Symposium\, we are back bigger and better than ever\, and with newer information. \nThis one day symposium will be help at Crown Conference Centre\, Melbourne\, with a focus on what has changed\, what is new and what is emerging in cosmetic dermatology in the last 12 months.
URL:https://hanyaoversby.com.au/event/emerging-trends-in-cosmetic-dermatology/
LOCATION:Crown Conference Centre Melbourne\, 8 Whiteman Street\, Southbank\, Victoria\, 3006\, Australia
CATEGORIES:Conference
ATTACH;FMTTYPE=image/jpeg:https://hanyaoversby.com.au/wp-content/uploads/2025/03/trends-in-cosmetic-dermatology-2024.jpg
END:VEVENT
BEGIN:VEVENT
DTSTART;TZID=Australia/Melbourne:20240301T083000
DTEND;TZID=Australia/Melbourne:20240303T130000
DTSTAMP:20260420T193251
CREATED:20240118T045919Z
LAST-MODIFIED:20240118T045919Z
UID:10000094-1709281800-1709470800@hanyaoversby.com.au
SUMMARY:ASCD Symposium 2024
DESCRIPTION:The Australasian Society of Cosmetic Dermatologists (ASCD) are delighted to invite you to the ASCD Symposium taking place 1-3 March 2024 at the Crown Conference Centre.  \nOn 29 February\, the day prior to the Symposium\, we will have a number of Sponsored Workshops taking place.
URL:https://hanyaoversby.com.au/event/ascd-symposium-2024/
LOCATION:Crown Conference Centre Melbourne\, 8 Whiteman Street\, Southbank\, Victoria\, 3006\, Australia
CATEGORIES:Conference
ATTACH;FMTTYPE=image/png:https://hanyaoversby.com.au/wp-content/uploads/2024/01/ascd-symposium-2024.png
END:VEVENT
BEGIN:VEVENT
DTSTART;TZID=Australia/Melbourne:20230324T080000
DTEND;TZID=Australia/Melbourne:20230326T170000
DTSTAMP:20260420T193251
CREATED:20230124T052300Z
LAST-MODIFIED:20230124T052617Z
UID:10000093-1679644800-1679850000@hanyaoversby.com.au
SUMMARY:ASCD Symposium 2023
DESCRIPTION:
URL:https://hanyaoversby.com.au/event/ascd-symposium-2023/
LOCATION:Crown Conference Centre Melbourne\, 8 Whiteman Street\, Southbank\, Victoria\, 3006\, Australia
CATEGORIES:Conference
ATTACH;FMTTYPE=image/jpeg:https://hanyaoversby.com.au/wp-content/uploads/2023/01/hanya-oversby-ascd-symposium-2023.jpg
END:VEVENT
BEGIN:VEVENT
DTSTART;TZID=Australia/Melbourne:20220225T083000
DTEND;TZID=Australia/Melbourne:20220227T173000
DTSTAMP:20260420T193251
CREATED:20220413T080116Z
LAST-MODIFIED:20220413T080116Z
UID:10000088-1645777800-1645983000@hanyaoversby.com.au
SUMMARY:Australasian Society of Cosmetic Dermatologists - ASCD Symposium
DESCRIPTION:We are delighted to announce that episodes of The Doctor Diaries Podcast with Hanya Oversby will be recorded live at the ASCD Symposium 2022. \nSymposium highlights include: \n\nInternational Keynote Speakers\nPlenary sessions\nThe Science of Beauty\nTechnology and our profession – are we dumbing down?\nComplications Management\nControversies\nThe Business of Aesthetic Medicine\nWhat’s Hot?\nPanel Discussions\, game shows and other learning experiences\nThe best of what we have seen\, heard and read in the last 12 months\nTrade Interaction with Companies Presenting the Latest in Devices and Cosmeceuticals
URL:https://hanyaoversby.com.au/event/australasian-society-of-cosmetic-dermatologists-ascd-symposium/
LOCATION:Crown Conference Centre Melbourne\, 8 Whiteman Street\, Southbank\, Victoria\, 3006\, Australia
CATEGORIES:Workshops
ATTACH;FMTTYPE=image/jpeg:https://hanyaoversby.com.au/wp-content/uploads/2022/04/australasian-society-of-cosmetic-dermatologists.jpg
END:VEVENT
END:VCALENDAR