BEGIN:VCALENDAR
VERSION:2.0
PRODID:-//Hanya Oversby - ECPv6.15.20//NONSGML v1.0//EN
CALSCALE:GREGORIAN
METHOD:PUBLISH
X-WR-CALNAME:Hanya Oversby
X-ORIGINAL-URL:https://hanyaoversby.com.au
X-WR-CALDESC:Events for Hanya Oversby
REFRESH-INTERVAL;VALUE=DURATION:PT1H
X-Robots-Tag:noindex
X-PUBLISHED-TTL:PT1H
BEGIN:VTIMEZONE
TZID:UTC
BEGIN:STANDARD
TZOFFSETFROM:+0000
TZOFFSETTO:+0000
TZNAME:UTC
DTSTART:20170101T000000
END:STANDARD
END:VTIMEZONE
BEGIN:VTIMEZONE
TZID:Australia/Melbourne
BEGIN:STANDARD
TZOFFSETFROM:+1100
TZOFFSETTO:+1000
TZNAME:AEST
DTSTART:20180331T160000
END:STANDARD
BEGIN:DAYLIGHT
TZOFFSETFROM:+1000
TZOFFSETTO:+1100
TZNAME:AEDT
DTSTART:20181006T160000
END:DAYLIGHT
BEGIN:STANDARD
TZOFFSETFROM:+1100
TZOFFSETTO:+1000
TZNAME:AEST
DTSTART:20190406T160000
END:STANDARD
BEGIN:DAYLIGHT
TZOFFSETFROM:+1000
TZOFFSETTO:+1100
TZNAME:AEDT
DTSTART:20191005T160000
END:DAYLIGHT
BEGIN:STANDARD
TZOFFSETFROM:+1100
TZOFFSETTO:+1000
TZNAME:AEST
DTSTART:20200404T160000
END:STANDARD
BEGIN:DAYLIGHT
TZOFFSETFROM:+1000
TZOFFSETTO:+1100
TZNAME:AEDT
DTSTART:20201003T160000
END:DAYLIGHT
END:VTIMEZONE
BEGIN:VEVENT
DTSTART;TZID=UTC:20191129T083000
DTEND;TZID=UTC:20191129T173000
DTSTAMP:20260420T193309
CREATED:20191121T010006Z
LAST-MODIFIED:20191121T010946Z
UID:10000065-1575016200-1575048600@hanyaoversby.com.au
SUMMARY:Melbourne Transition to Practice 'Comprehensive'
DESCRIPTION:The Private Practice ‘Comprehensive’ has been developed for advanced trainees\, recent fellows and consultants seeking a smooth and efficient transition to private practice. \nThe three-day course aims to prepare you for the challenges involved with establishing and managing a successful medical practice. Additionally\, the course provides training on the action\, processes and habits required to achieve and maintain your desired lifestyle. \nHanya will be presenting the topics of ‘Practice Set-up’ and workshopping practical project management and action planning
URL:https://hanyaoversby.com.au/event/melbourne-transition-to-practice-comprehensive/
LOCATION:Pullman Melbourne On The Park\, 192 Wellington Parade\, Melbourne\, Victoria\, 3002\, Australia
CATEGORIES:Courses,Workshops
ATTACH;FMTTYPE=image/png:https://hanyaoversby.com.au/wp-content/uploads/2019/11/hanya-oversby-melb-practice-comprehensive-dec2019.png
GEO:-37.8161822;144.9834061
X-APPLE-STRUCTURED-LOCATION;VALUE=URI;X-ADDRESS=Pullman Melbourne On The Park 192 Wellington Parade Melbourne Victoria 3002 Australia;X-APPLE-RADIUS=500;X-TITLE=192 Wellington Parade:geo:144.9834061,-37.8161822
END:VEVENT
BEGIN:VEVENT
DTSTART;TZID=Australia/Melbourne:20190803T083000
DTEND;TZID=Australia/Melbourne:20190804T153000
DTSTAMP:20260420T193309
CREATED:20190730T121319Z
LAST-MODIFIED:20190730T121807Z
UID:10000064-1564821000-1564932600@hanyaoversby.com.au
SUMMARY:Sydney Practice Growth Strategies
DESCRIPTION:This workshop will help explain how to effectively and consistently convert high income into appreciating assets that will provide for your desired lifestyle now and into retirement\, as well as help establish a platform for intergenerational success.
URL:https://hanyaoversby.com.au/event/sydney-practice-growth-strategies/
CATEGORIES:Workshops
ATTACH;FMTTYPE=image/jpeg:https://hanyaoversby.com.au/wp-content/uploads/2019/07/hbn-practice-growth-strategies.jpg
END:VEVENT
BEGIN:VEVENT
DTSTART;TZID=UTC:20180223T083000
DTEND;TZID=UTC:20180225T063000
DTSTAMP:20260420T193309
CREATED:20180306T182621Z
LAST-MODIFIED:20180314T001527Z
UID:10000047-1519374600-1519540200@hanyaoversby.com.au
SUMMARY:Sydney Private Practice 'Comprehensive'
DESCRIPTION:Transition to Private Practice – this course aims to prepare delegates for the challenges involved with establishing and managing a successful medical practice. \nThis course also provides training on the actions\, processes and habits required to achieve and maintain your desired lifestyle.
URL:https://hanyaoversby.com.au/event/sydney-private-practice-comprehensive/
LOCATION:The Grace Hotel\, 77 York St\, Sydney\, NSW\, 2000\, Australia
CATEGORIES:Courses
ATTACH;FMTTYPE=image/jpeg:https://hanyaoversby.com.au/wp-content/uploads/2018/03/hanya-course-presenter-comprehensive-feb-2018-700x350.jpg
GEO:-33.8689992;151.2056813
X-APPLE-STRUCTURED-LOCATION;VALUE=URI;X-ADDRESS=The Grace Hotel 77 York St Sydney NSW 2000 Australia;X-APPLE-RADIUS=500;X-TITLE=77 York St:geo:151.2056813,-33.8689992
END:VEVENT
END:VCALENDAR