BEGIN:VCALENDAR
VERSION:2.0
PRODID:-//Hanya Oversby - ECPv6.15.20//NONSGML v1.0//EN
CALSCALE:GREGORIAN
METHOD:PUBLISH
X-WR-CALNAME:Hanya Oversby
X-ORIGINAL-URL:https://hanyaoversby.com.au
X-WR-CALDESC:Events for Hanya Oversby
REFRESH-INTERVAL;VALUE=DURATION:PT1H
X-Robots-Tag:noindex
X-PUBLISHED-TTL:PT1H
BEGIN:VTIMEZONE
TZID:UTC
BEGIN:STANDARD
TZOFFSETFROM:+0000
TZOFFSETTO:+0000
TZNAME:UTC
DTSTART:20170101T000000
END:STANDARD
END:VTIMEZONE
BEGIN:VEVENT
DTSTART;TZID=UTC:20181019T083000
DTEND;TZID=UTC:20181021T153000
DTSTAMP:20260420T234808
CREATED:20180306T192444Z
LAST-MODIFIED:20180313T111537Z
UID:10000056-1539937800-1540135800@hanyaoversby.com.au
SUMMARY:Melbourne Private Practice ‘Comprehensive’
DESCRIPTION:Transition to Private Practice – this course aims to prepare delegates for the challenges involved with establishing and managing a successful medical practice. \nThe course also provides training on the actions\, processes and habits required to achieve and maintain your desired lifestyle.
URL:https://hanyaoversby.com.au/event/melbourne-private-practice-comprehensive/
LOCATION:Stamford Plaza Melbourne\, 111 Little Collins St\, Melbourne\, Victoria\, 3000\, Australia
CATEGORIES:Courses
ATTACH;FMTTYPE=image/jpeg:https://hanyaoversby.com.au/wp-content/uploads/2018/03/hanya-oversby-presenter-comprehensive-oct2018-700.jpg
GEO:-37.8134858;144.9699988
X-APPLE-STRUCTURED-LOCATION;VALUE=URI;X-ADDRESS=Stamford Plaza Melbourne 111 Little Collins St Melbourne Victoria 3000 Australia;X-APPLE-RADIUS=500;X-TITLE=111 Little Collins St:geo:144.9699988,-37.8134858
END:VEVENT
END:VCALENDAR