BEGIN:VCALENDAR
VERSION:2.0
PRODID:-//Hanya Oversby - ECPv6.15.20//NONSGML v1.0//EN
CALSCALE:GREGORIAN
METHOD:PUBLISH
X-WR-CALNAME:Hanya Oversby
X-ORIGINAL-URL:https://hanyaoversby.com.au
X-WR-CALDESC:Events for Hanya Oversby
REFRESH-INTERVAL;VALUE=DURATION:PT1H
X-Robots-Tag:noindex
X-PUBLISHED-TTL:PT1H
BEGIN:VTIMEZONE
TZID:Australia/Melbourne
BEGIN:STANDARD
TZOFFSETFROM:+1100
TZOFFSETTO:+1000
TZNAME:AEST
DTSTART:20200404T160000
END:STANDARD
BEGIN:DAYLIGHT
TZOFFSETFROM:+1000
TZOFFSETTO:+1100
TZNAME:AEDT
DTSTART:20201003T160000
END:DAYLIGHT
BEGIN:STANDARD
TZOFFSETFROM:+1100
TZOFFSETTO:+1000
TZNAME:AEST
DTSTART:20210403T160000
END:STANDARD
BEGIN:DAYLIGHT
TZOFFSETFROM:+1000
TZOFFSETTO:+1100
TZNAME:AEDT
DTSTART:20211002T160000
END:DAYLIGHT
BEGIN:STANDARD
TZOFFSETFROM:+1100
TZOFFSETTO:+1000
TZNAME:AEST
DTSTART:20220402T160000
END:STANDARD
BEGIN:DAYLIGHT
TZOFFSETFROM:+1000
TZOFFSETTO:+1100
TZNAME:AEDT
DTSTART:20221001T160000
END:DAYLIGHT
END:VTIMEZONE
BEGIN:VEVENT
DTSTART;TZID=Australia/Melbourne:20210606T090000
DTEND;TZID=Australia/Melbourne:20210606T170000
DTSTAMP:20260420T223704
CREATED:20210524T021310Z
LAST-MODIFIED:20210524T021310Z
UID:10000084-1622970000-1622998800@hanyaoversby.com.au
SUMMARY:CosDoc 2021
DESCRIPTION:Aesthetic Business Reset helps organisations fill gaps where they lack critical expertise or resources. Aesthetic Business Reset’s experts\, Hanya Oversby and Nicky Tzimas\, add value to businesses by bringing with them concepts and learning from 40 years of previous experience.
URL:https://hanyaoversby.com.au/event/cosdoc-2021/
CATEGORIES:Virtual
ATTACH;FMTTYPE=image/jpeg:https://hanyaoversby.com.au/wp-content/uploads/2021/05/cosdoc-2021.jpg
END:VEVENT
END:VCALENDAR