BEGIN:VCALENDAR
VERSION:2.0
PRODID:-//Hanya Oversby - ECPv6.15.20//NONSGML v1.0//EN
CALSCALE:GREGORIAN
METHOD:PUBLISH
X-ORIGINAL-URL:https://hanyaoversby.com.au
X-WR-CALDESC:Events for Hanya Oversby
REFRESH-INTERVAL;VALUE=DURATION:PT1H
X-Robots-Tag:noindex
X-PUBLISHED-TTL:PT1H
BEGIN:VTIMEZONE
TZID:Australia/Melbourne
BEGIN:STANDARD
TZOFFSETFROM:+1100
TZOFFSETTO:+1000
TZNAME:AEST
DTSTART:20190406T160000
END:STANDARD
BEGIN:DAYLIGHT
TZOFFSETFROM:+1000
TZOFFSETTO:+1100
TZNAME:AEDT
DTSTART:20191005T160000
END:DAYLIGHT
BEGIN:STANDARD
TZOFFSETFROM:+1100
TZOFFSETTO:+1000
TZNAME:AEST
DTSTART:20200404T160000
END:STANDARD
BEGIN:DAYLIGHT
TZOFFSETFROM:+1000
TZOFFSETTO:+1100
TZNAME:AEDT
DTSTART:20201003T160000
END:DAYLIGHT
BEGIN:STANDARD
TZOFFSETFROM:+1100
TZOFFSETTO:+1000
TZNAME:AEST
DTSTART:20210403T160000
END:STANDARD
BEGIN:DAYLIGHT
TZOFFSETFROM:+1000
TZOFFSETTO:+1100
TZNAME:AEDT
DTSTART:20211002T160000
END:DAYLIGHT
BEGIN:STANDARD
TZOFFSETFROM:+1100
TZOFFSETTO:+1000
TZNAME:AEST
DTSTART:20220402T160000
END:STANDARD
BEGIN:DAYLIGHT
TZOFFSETFROM:+1000
TZOFFSETTO:+1100
TZNAME:AEDT
DTSTART:20221001T160000
END:DAYLIGHT
BEGIN:STANDARD
TZOFFSETFROM:+1100
TZOFFSETTO:+1000
TZNAME:AEST
DTSTART:20230401T160000
END:STANDARD
BEGIN:DAYLIGHT
TZOFFSETFROM:+1000
TZOFFSETTO:+1100
TZNAME:AEDT
DTSTART:20230930T160000
END:DAYLIGHT
END:VTIMEZONE
BEGIN:VTIMEZONE
TZID:UTC
BEGIN:STANDARD
TZOFFSETFROM:+0000
TZOFFSETTO:+0000
TZNAME:UTC
DTSTART:20170101T000000
END:STANDARD
END:VTIMEZONE
BEGIN:VEVENT
DTSTART;TZID=Australia/Melbourne:20221014T083000
DTEND;TZID=Australia/Melbourne:20221016T173000
DTSTAMP:20260420T212155
CREATED:20220413T081205Z
LAST-MODIFIED:20220413T081205Z
UID:10000089-1665736200-1665941400@hanyaoversby.com.au
SUMMARY:44th Annual ASAPS Conference
DESCRIPTION:Business Management Stream – Creating Value in your Plastic Surgery Practice \nWhilst a confident\, experienced surgeon is the key to happy patients\, working together with a slick\, well educated team guarantees success. Our practice management sessions will allow your team to gain efficiency insights and will run in parallel with the conference. \nThis session is aimed at equipping Practice Managers with the tools and information to grow and sustain their practices.
URL:https://hanyaoversby.com.au/event/44th-annual-asaps-conference/
LOCATION:Hotel Chadstone\, 1341 Dandenong Road\, Cjadstone\, Victoria\, 3148\, Australia
CATEGORIES:Conference
ATTACH;FMTTYPE=image/jpeg:https://hanyaoversby.com.au/wp-content/uploads/2022/04/44th-annual-ASAPS-conference.jpg
END:VEVENT
BEGIN:VEVENT
DTSTART;TZID=Australia/Melbourne:20211010T083000
DTEND;TZID=Australia/Melbourne:20211010T090000
DTSTAMP:20260420T212155
CREATED:20211005T061723Z
LAST-MODIFIED:20211005T062006Z
UID:10000085-1633854600-1633856400@hanyaoversby.com.au
SUMMARY:43rd ASAPS Annual Conference 2021
DESCRIPTION:ASAPS’ inception came from the need to offer continuing education to specialist plastic surgeons with an aesthetic interest. Our Society has grown from strength to strength because of our continued commitment to bring the ASAPS family together. \nThe benefits of learning and supporting each other were most evident in the past year. This year’s hybrid conference will cater broadly offering lectures in facial\, body and breast surgery.
URL:https://hanyaoversby.com.au/event/43rd-asaps-annual-conference-2021/
CATEGORIES:Virtual
ATTACH;FMTTYPE=image/png:https://hanyaoversby.com.au/wp-content/uploads/2021/10/hanya-oversby-asaps-annual-conference-2021.png
END:VEVENT
BEGIN:VEVENT
DTSTART;TZID=Australia/Melbourne:20201128T090000
DTEND;TZID=Australia/Melbourne:20201129T160000
DTSTAMP:20260420T212155
CREATED:20210322T033140Z
LAST-MODIFIED:20210322T033140Z
UID:10000082-1606554000-1606665600@hanyaoversby.com.au
SUMMARY:Non-Surgical Symposium 2.0
DESCRIPTION:The Australasian Society of Aesthetic Plastic Surgeons (ASAPS) are excited to announce The Non-Surgical Symposium 2.0 – Reimagined\, a virtual\, innovative reimagining of the traditional Non-Surgical Symposium live event. \nTwo full days of scientific\, education programming has been created to give delegates access to the latest information and learnings from the world of aesthetic products\, procedures and developments.  With a faculty comprised of both international and local experts\, the NSS 2.0 – Reimagined promises to provide you with the high level of educational content that you have come to expect from ASAPS events.
URL:https://hanyaoversby.com.au/event/non-surgical-symposium-2-0/
CATEGORIES:Virtual
ATTACH;FMTTYPE=image/png:https://hanyaoversby.com.au/wp-content/uploads/2021/03/non-surgical-symposium-2.png
END:VEVENT
BEGIN:VEVENT
DTSTART;TZID=UTC:20200612T083000
DTEND;TZID=UTC:20200614T173000
DTSTAMP:20260420T212155
CREATED:20200313T110838Z
LAST-MODIFIED:20200313T111405Z
UID:10000068-1591950600-1592155800@hanyaoversby.com.au
SUMMARY:ASAPS Non-Surgical Symposium 2020
DESCRIPTION:Hanya will be presenting on the topic of ‘Setting up for Success’. What does it take to set up a ‘successful’ Aesthetic Practice? Where to begin and how to reset if things are out of control!
URL:https://hanyaoversby.com.au/event/asaps-non-surgical-symposium-2020/
CATEGORIES:Conference
ATTACH;FMTTYPE=image/jpeg:https://hanyaoversby.com.au/wp-content/uploads/2020/03/non-surgical-symposiumjpg.jpg
END:VEVENT
BEGIN:VEVENT
DTSTART;TZID=UTC:20190614T080000
DTEND;TZID=UTC:20190616T133000
DTSTAMP:20260420T212155
CREATED:20190315T070105Z
LAST-MODIFIED:20190315T070339Z
UID:10000062-1560499200-1560691800@hanyaoversby.com.au
SUMMARY:2019 Non-Surgical Symposium
DESCRIPTION:Hanya will be presenting her abstract “Is the Practice Manager Title outdated?” as seen in the Aesthetic Practictioner Magazine.   \nHanya shares her unique insights from 18 plus years of experience in working with medical businesses\, exploring the expanding role of the Practice Manager and why it may be time to reassess their role in your business.
URL:https://hanyaoversby.com.au/event/2019-non-surgical-symposium/
CATEGORIES:Conference
ATTACH;FMTTYPE=image/png:https://hanyaoversby.com.au/wp-content/uploads/2019/03/2019-non-surgical-symposium-700x350.png
END:VEVENT
BEGIN:VEVENT
DTSTART;TZID=UTC:20180614T150000
DTEND;TZID=UTC:20180617T133000
DTSTAMP:20260420T212155
CREATED:20180306T191458Z
LAST-MODIFIED:20180313T105842Z
UID:10000053-1528988400-1529242200@hanyaoversby.com.au
SUMMARY:Non-Surgical Symposium
DESCRIPTION:This not-to-be-missed event seizes the opportunity to explore the hottest topics related to the medical aesthetic field. \nNSS Australia has become the premier non-surgical event in Australasia\, selling out of trade booths and registrations for the past few years.
URL:https://hanyaoversby.com.au/event/non-surgical-symposium/
LOCATION:Gold Coast Convention Centre\, 2684-2690 Gold Coast Hwy\, Broadbeach\, Gold Coast\, Queensland\, 4218\, Australia
CATEGORIES:Courses
ATTACH;FMTTYPE=image/jpeg:https://hanyaoversby.com.au/wp-content/uploads/2018/03/hanya-oversby-presenter-non-surgical-jun2018-700.jpg
GEO:-28.0278687;153.428597
X-APPLE-STRUCTURED-LOCATION;VALUE=URI;X-ADDRESS=Gold Coast Convention Centre 2684-2690 Gold Coast Hwy Broadbeach Gold Coast Queensland 4218 Australia;X-APPLE-RADIUS=500;X-TITLE=2684-2690 Gold Coast Hwy\, Broadbeach:geo:153.428597,-28.0278687
END:VEVENT
END:VCALENDAR