BEGIN:VCALENDAR
VERSION:2.0
PRODID:-//Hanya Oversby - ECPv6.15.20//NONSGML v1.0//EN
CALSCALE:GREGORIAN
METHOD:PUBLISH
X-WR-CALNAME:Hanya Oversby
X-ORIGINAL-URL:https://hanyaoversby.com.au
X-WR-CALDESC:Events for Hanya Oversby
REFRESH-INTERVAL;VALUE=DURATION:PT1H
X-Robots-Tag:noindex
X-PUBLISHED-TTL:PT1H
BEGIN:VTIMEZONE
TZID:UTC
BEGIN:STANDARD
TZOFFSETFROM:+0000
TZOFFSETTO:+0000
TZNAME:UTC
DTSTART:20170101T000000
END:STANDARD
END:VTIMEZONE
BEGIN:VTIMEZONE
TZID:Australia/Melbourne
BEGIN:STANDARD
TZOFFSETFROM:+1100
TZOFFSETTO:+1000
TZNAME:AEST
DTSTART:20180331T160000
END:STANDARD
BEGIN:DAYLIGHT
TZOFFSETFROM:+1000
TZOFFSETTO:+1100
TZNAME:AEDT
DTSTART:20181006T160000
END:DAYLIGHT
BEGIN:STANDARD
TZOFFSETFROM:+1100
TZOFFSETTO:+1000
TZNAME:AEST
DTSTART:20190406T160000
END:STANDARD
BEGIN:DAYLIGHT
TZOFFSETFROM:+1000
TZOFFSETTO:+1100
TZNAME:AEDT
DTSTART:20191005T160000
END:DAYLIGHT
BEGIN:STANDARD
TZOFFSETFROM:+1100
TZOFFSETTO:+1000
TZNAME:AEST
DTSTART:20200404T160000
END:STANDARD
BEGIN:DAYLIGHT
TZOFFSETFROM:+1000
TZOFFSETTO:+1100
TZNAME:AEDT
DTSTART:20201003T160000
END:DAYLIGHT
END:VTIMEZONE
BEGIN:VTIMEZONE
TZID:Australia/Melbourne
BEGIN:STANDARD
TZOFFSETFROM:+1100
TZOFFSETTO:+1000
TZNAME:AEST
DTSTART:20200404T160000
END:STANDARD
BEGIN:DAYLIGHT
TZOFFSETFROM:+1000
TZOFFSETTO:+1100
TZNAME:AEDT
DTSTART:20201003T160000
END:DAYLIGHT
BEGIN:STANDARD
TZOFFSETFROM:+1100
TZOFFSETTO:+1000
TZNAME:AEST
DTSTART:20210403T160000
END:STANDARD
BEGIN:DAYLIGHT
TZOFFSETFROM:+1000
TZOFFSETTO:+1100
TZNAME:AEDT
DTSTART:20211002T160000
END:DAYLIGHT
BEGIN:STANDARD
TZOFFSETFROM:+1100
TZOFFSETTO:+1000
TZNAME:AEST
DTSTART:20220402T160000
END:STANDARD
BEGIN:DAYLIGHT
TZOFFSETFROM:+1000
TZOFFSETTO:+1100
TZNAME:AEDT
DTSTART:20221001T160000
END:DAYLIGHT
BEGIN:STANDARD
TZOFFSETFROM:+1100
TZOFFSETTO:+1000
TZNAME:AEST
DTSTART:20230401T160000
END:STANDARD
BEGIN:DAYLIGHT
TZOFFSETFROM:+1000
TZOFFSETTO:+1100
TZNAME:AEDT
DTSTART:20230930T160000
END:DAYLIGHT
END:VTIMEZONE
BEGIN:VEVENT
DTSTART;TZID=UTC:20180216T083000
DTEND;TZID=UTC:20180216T183000
DTSTAMP:20260420T180910
CREATED:20180306T120753Z
LAST-MODIFIED:20180306T155342Z
UID:10000046-1518769800-1518805800@hanyaoversby.com.au
SUMMARY:Roadmap to setting up your new practice
DESCRIPTION:Starting your own practice is a big commitment and the process can leave you feeling overwhelmed and confused\, but it doesn’t need to be such a daunting project.  \nWe have gathered a team of experts to help you uncover your practice ownership goals and help you set the necessary direction to achieve them.
URL:https://hanyaoversby.com.au/event/roadmap-to-setting-up-your-new-practice/
LOCATION:Victoria
CATEGORIES:Workshops
ATTACH;FMTTYPE=image/png:https://hanyaoversby.com.au/wp-content/uploads/2018/03/hanya-presenting-setting-up-a-private-practice-700x350.png
END:VEVENT
BEGIN:VEVENT
DTSTART;VALUE=DATE:20180428
DTEND;VALUE=DATE:20180430
DTSTAMP:20260420T180910
CREATED:20180405T072753Z
LAST-MODIFIED:20180405T072753Z
UID:10000058-1524873600-1525046399@hanyaoversby.com.au
SUMMARY:Medical Oncology & Haematology Advanced Trainee Program
DESCRIPTION:The advanced trainee program is a PCPA initiative that began in 2011. The program has been designed to provide a comprehensive overview relevant to Medical Oncology and Haematology trainees.
URL:https://hanyaoversby.com.au/event/medical-oncology-haematology-advanced-trainee-program/
LOCATION:Intercontinental Melbourne\, The Rialto\, 495 Collins Street\, Melbourne\, Victoria\, 3000
CATEGORIES:Workshops
ATTACH;FMTTYPE=image/jpeg:https://hanyaoversby.com.au/wp-content/uploads/2018/04/pcpa-event-april-2018-hanya-oversby-presenting.jpg
GEO:-37.818889;144.958333
X-APPLE-STRUCTURED-LOCATION;VALUE=URI;X-ADDRESS=Intercontinental Melbourne The Rialto 495 Collins Street Melbourne Victoria 3000;X-APPLE-RADIUS=500;X-TITLE=495 Collins Street:geo:144.958333,-37.818889
END:VEVENT
BEGIN:VEVENT
DTSTART;TZID=UTC:20180430T083000
DTEND;TZID=UTC:20180430T173000
DTSTAMP:20260420T180910
CREATED:20180306T190002Z
LAST-MODIFIED:20180419T025734Z
UID:10000050-1525077000-1525109400@hanyaoversby.com.au
SUMMARY:Practice Growth Strategies Workshop
DESCRIPTION:The Private Practice ‘Growth Strategies’ Workshop for established Practice Principals/Consultants is designed for those seeking operational efficiencies\, expansion and deepening of referral relationships\, transitioning to group and/or multi-location practice and positioning for optimal sale.
URL:https://hanyaoversby.com.au/event/growth-strategies/
LOCATION:Intercontinental Melbourne\, The Rialto\, 495 Collins Street\, Melbourne\, Victoria\, 3000
CATEGORIES:Workshops
ATTACH;FMTTYPE=image/jpeg:https://hanyaoversby.com.au/wp-content/uploads/2018/03/hanya-oversby-course-presenter-pcpa-2018-700.jpg
GEO:-37.818889;144.958333
X-APPLE-STRUCTURED-LOCATION;VALUE=URI;X-ADDRESS=Intercontinental Melbourne The Rialto 495 Collins Street Melbourne Victoria 3000;X-APPLE-RADIUS=500;X-TITLE=495 Collins Street:geo:144.958333,-37.818889
END:VEVENT
BEGIN:VEVENT
DTSTART;TZID=UTC:20181020T083000
DTEND;TZID=UTC:20181021T153000
DTSTAMP:20260420T180910
CREATED:20180306T192629Z
LAST-MODIFIED:20180313T111902Z
UID:10000057-1540024200-1540135800@hanyaoversby.com.au
SUMMARY:Practice Succession Planning Workshop
DESCRIPTION:A practice that presents a compelling opportunity for a buyer is one that maximises the value embedded in the practice and minimises the type of value that is difficult to transfer i.e. the personal goodwill from the particular qualities and experience of an individual doctor.
URL:https://hanyaoversby.com.au/event/practice-succession-planning-workshop/
LOCATION:Stamford Plaza Melbourne\, 111 Little Collins St\, Melbourne\, Victoria\, 3000\, Australia
CATEGORIES:Workshops
ATTACH;FMTTYPE=image/jpeg:https://hanyaoversby.com.au/wp-content/uploads/2018/03/hanya-oversby-workshop-facilitator-oct2018-700.jpg
GEO:-37.8134858;144.9699988
X-APPLE-STRUCTURED-LOCATION;VALUE=URI;X-ADDRESS=Stamford Plaza Melbourne 111 Little Collins St Melbourne Victoria 3000 Australia;X-APPLE-RADIUS=500;X-TITLE=111 Little Collins St:geo:144.9699988,-37.8134858
END:VEVENT
BEGIN:VEVENT
DTSTART;TZID=UTC:20190328T080000
DTEND;TZID=UTC:20190328T183000
DTSTAMP:20260420T180910
CREATED:20190215T004014Z
LAST-MODIFIED:20190215T004830Z
UID:10000060-1553760000-1553797800@hanyaoversby.com.au
SUMMARY:BOQ Specialist Workshop
DESCRIPTION:‘Roadmap to practice ownership workshop: Purchasing or buying into an existing practice” \nStarting your own practice is a big commitment and the process can leave you feeling overwhelmed and confused\, but it doesn’t need to be such a daunting project.  \nWe have gathered a team of experts to help you uncover your practice ownership goals and help you set the necessary direction to achieve them. \n – Discussion topics:\n – Research and planning\n – Property purchase/leasing\n – Design and fitout – value for money\n – Banking and financing options\n – Branding and marketing\n – Legal considerations – commercial and human resources\n – Accounting best practices\n – IT infrastructure\n – Benchmarking your practices against your peers\n – Selecting the best business structure\n – Practice insurance considerations \nHanya will be presenting on the following topics:\n – The Journey Starts\n – Research & Planning\n – Getting Ready for Day 1\n – Growing your business – Future considerations
URL:https://hanyaoversby.com.au/event/boq-specialist-workshop/
LOCATION:Stamford Plaza Melbourne\, 111 Little Collins St\, Melbourne\, Victoria\, 3000\, Australia
CATEGORIES:Workshops
ATTACH;FMTTYPE=image/jpeg:https://hanyaoversby.com.au/wp-content/uploads/2019/02/boq-specialist-event-melbourne-2019-700.jpg
GEO:-37.8134858;144.9699988
X-APPLE-STRUCTURED-LOCATION;VALUE=URI;X-ADDRESS=Stamford Plaza Melbourne 111 Little Collins St Melbourne Victoria 3000 Australia;X-APPLE-RADIUS=500;X-TITLE=111 Little Collins St:geo:144.9699988,-37.8134858
END:VEVENT
BEGIN:VEVENT
DTSTART;TZID=Australia/Melbourne:20190802T083000
DTEND;TZID=Australia/Melbourne:20190802T180000
DTSTAMP:20260420T180910
CREATED:20190730T115836Z
LAST-MODIFIED:20190730T120412Z
UID:10000063-1564734600-1564768800@hanyaoversby.com.au
SUMMARY:Roadmap to practice ownership : Setting up your new practice
DESCRIPTION:Starting your own practice is a big commitment and the process can leave you feeling overwhelmed and confused\, but it doesn’t need to be such a daunting project.\nWe have gathered a team of experts to help you uncover your practice ownership goals and help you set the necessary direction to achieve them.
URL:https://hanyaoversby.com.au/event/roadmap-to-practice-ownership-setting-up-your-new-practice/
LOCATION:Victoria
CATEGORIES:Workshops
ATTACH;FMTTYPE=image/jpeg:https://hanyaoversby.com.au/wp-content/uploads/2019/07/hanya-oversby-boq-workshop.jpg
END:VEVENT
BEGIN:VEVENT
DTSTART;TZID=Australia/Melbourne:20190803T083000
DTEND;TZID=Australia/Melbourne:20190804T153000
DTSTAMP:20260420T180910
CREATED:20190730T121319Z
LAST-MODIFIED:20190730T121807Z
UID:10000064-1564821000-1564932600@hanyaoversby.com.au
SUMMARY:Sydney Practice Growth Strategies
DESCRIPTION:This workshop will help explain how to effectively and consistently convert high income into appreciating assets that will provide for your desired lifestyle now and into retirement\, as well as help establish a platform for intergenerational success.
URL:https://hanyaoversby.com.au/event/sydney-practice-growth-strategies/
LOCATION:Victoria
CATEGORIES:Workshops
ATTACH;FMTTYPE=image/jpeg:https://hanyaoversby.com.au/wp-content/uploads/2019/07/hbn-practice-growth-strategies.jpg
END:VEVENT
BEGIN:VEVENT
DTSTART;TZID=UTC:20191129T083000
DTEND;TZID=UTC:20191129T173000
DTSTAMP:20260420T180910
CREATED:20191121T010006Z
LAST-MODIFIED:20191121T010946Z
UID:10000065-1575016200-1575048600@hanyaoversby.com.au
SUMMARY:Melbourne Transition to Practice 'Comprehensive'
DESCRIPTION:The Private Practice ‘Comprehensive’ has been developed for advanced trainees\, recent fellows and consultants seeking a smooth and efficient transition to private practice. \nThe three-day course aims to prepare you for the challenges involved with establishing and managing a successful medical practice. Additionally\, the course provides training on the action\, processes and habits required to achieve and maintain your desired lifestyle. \nHanya will be presenting the topics of ‘Practice Set-up’ and workshopping practical project management and action planning
URL:https://hanyaoversby.com.au/event/melbourne-transition-to-practice-comprehensive/
LOCATION:Pullman Melbourne On The Park\, 192 Wellington Parade\, Melbourne\, Victoria\, 3002\, Australia
CATEGORIES:Courses,Workshops
ATTACH;FMTTYPE=image/png:https://hanyaoversby.com.au/wp-content/uploads/2019/11/hanya-oversby-melb-practice-comprehensive-dec2019.png
GEO:-37.8161822;144.9834061
X-APPLE-STRUCTURED-LOCATION;VALUE=URI;X-ADDRESS=Pullman Melbourne On The Park 192 Wellington Parade Melbourne Victoria 3002 Australia;X-APPLE-RADIUS=500;X-TITLE=192 Wellington Parade:geo:144.9834061,-37.8161822
END:VEVENT
BEGIN:VEVENT
DTSTART;TZID=UTC:20191130T083000
DTEND;TZID=UTC:20191201T181500
DTSTAMP:20260420T180910
CREATED:20191121T011850Z
LAST-MODIFIED:20191121T011850Z
UID:10000066-1575102600-1575224100@hanyaoversby.com.au
SUMMARY:Melbourne Practice Growth Strategies
DESCRIPTION:Hanya will explore what is needed to transform your practice from good to great. Wipe the slate clean and re-imagine what your practice could look like\, how it should operate for optimal interaction and engagement with patients\, referrers\, professional\, and administrative ‘staff’. \nSystems\, policies and procedures – The ‘what and how’ to get organised.\nLearn the necessary principles and procedures required to efficiently and effectively operate your practice as a well-oiled system. \nGroup and multi-practice models.\nDevelop a formal business plan\, consisting of a marketing\, operational\, financial and implementation plan\, to help you transform your practice from sole practitioner to a multi-doctor\, group practice and/or multi-location practice model.
URL:https://hanyaoversby.com.au/event/melbourne-practice-growth-strategies/
LOCATION:Pullman Melbourne On The Park\, 192 Wellington Parade\, Melbourne\, Victoria\, 3002\, Australia
CATEGORIES:Workshops
ATTACH;FMTTYPE=image/png:https://hanyaoversby.com.au/wp-content/uploads/2019/11/hanya-oversby-melb-practice-growth-dec2019.png
GEO:-37.8161822;144.9834061
X-APPLE-STRUCTURED-LOCATION;VALUE=URI;X-ADDRESS=Pullman Melbourne On The Park 192 Wellington Parade Melbourne Victoria 3002 Australia;X-APPLE-RADIUS=500;X-TITLE=192 Wellington Parade:geo:144.9834061,-37.8161822
END:VEVENT
BEGIN:VEVENT
DTSTART;TZID=UTC:20200620T083000
DTEND;TZID=UTC:20200621T133000
DTSTAMP:20260420T180910
CREATED:20200313T112717Z
LAST-MODIFIED:20200313T112902Z
UID:10000069-1592641800-1592746200@hanyaoversby.com.au
SUMMARY:Practice Growth Strategies\, Practice Software\, Data Science & Business Intelligence
DESCRIPTION:In this workshop Hanya will help explain how to effectively and consistently convert high income into appreciating assets that will provide for your desired lifestyle now and into retirement\, as well as help establish a platform for intergenerational success.
URL:https://hanyaoversby.com.au/event/practice-growth-strategies-practice-software-data-science-business-intelligence/
LOCATION:Victoria
CATEGORIES:Workshops
ATTACH;FMTTYPE=image/jpeg:https://hanyaoversby.com.au/wp-content/uploads/2020/03/the-private-practice-event-perth-1.jpg
END:VEVENT
BEGIN:VEVENT
DTSTART;TZID=UTC:20200815T083000
DTEND;TZID=UTC:20200815T130000
DTSTAMP:20260420T180910
CREATED:20200313T113306Z
LAST-MODIFIED:20200622T013428Z
UID:10000070-1597480200-1597496400@hanyaoversby.com.au
SUMMARY:Intensive Masterclass (Cancelled due to COVID-19)
DESCRIPTION:Hanya will unpack the critical task of Business Plan Construction in this intensive Masterclass. Learn from the expert and plan to succeed in your medical business.
URL:https://hanyaoversby.com.au/event/intensive-masterclass/
LOCATION:Pullman Melbourne On The Park\, 192 Wellington Parade\, Melbourne\, Victoria\, 3002\, Australia
CATEGORIES:Workshops
ATTACH;FMTTYPE=image/jpeg:https://hanyaoversby.com.au/wp-content/uploads/2020/03/medical-business-plan-construction.jpg
GEO:-37.8161822;144.9834061
X-APPLE-STRUCTURED-LOCATION;VALUE=URI;X-ADDRESS=Pullman Melbourne On The Park 192 Wellington Parade Melbourne Victoria 3002 Australia;X-APPLE-RADIUS=500;X-TITLE=192 Wellington Parade:geo:144.9834061,-37.8161822
END:VEVENT
BEGIN:VEVENT
DTSTART;TZID=UTC:20200829T083000
DTEND;TZID=UTC:20200829T133000
DTSTAMP:20260420T180910
CREATED:20200313T114943Z
LAST-MODIFIED:20200622T013453Z
UID:10000071-1598689800-1598707800@hanyaoversby.com.au
SUMMARY:Medical Business Plan Construction (Cancelled due to COVID-19)
DESCRIPTION:In this workshop Hanya will help explain how to effectively and consistently convert high income into appreciating assets that will provide for your desired lifestyle now and into retirement\, as well as help establish a platform for intergenerational success.
URL:https://hanyaoversby.com.au/event/medical-business-plan-construction/
LOCATION:Intercontinental Melbourne\, The Rialto\, 495 Collins Street\, Melbourne\, Victoria\, 3000
CATEGORIES:Workshops
ATTACH;FMTTYPE=image/jpeg:https://hanyaoversby.com.au/wp-content/uploads/2020/03/practice-growth-strategies.jpg
GEO:-37.818889;144.958333
X-APPLE-STRUCTURED-LOCATION;VALUE=URI;X-ADDRESS=Intercontinental Melbourne The Rialto 495 Collins Street Melbourne Victoria 3000;X-APPLE-RADIUS=500;X-TITLE=495 Collins Street:geo:144.958333,-37.818889
END:VEVENT
BEGIN:VEVENT
DTSTART;TZID=UTC:20200904T180000
DTEND;TZID=UTC:20200906T160000
DTSTAMP:20260420T180910
CREATED:20200313T120454Z
LAST-MODIFIED:20200622T013513Z
UID:10000073-1599242400-1599408000@hanyaoversby.com.au
SUMMARY:Practice Succession Annual Retreat (Cancelled due to COVID-19)
DESCRIPTION:Join Hanya and other dynamic presenters as they explore how to create\, communicate and realise the saleable value of your practice\, the ‘Secret Wheels of Happiness and Success’ and life after work…on your terms
URL:https://hanyaoversby.com.au/event/practice-succession-annual-retreat/
LOCATION:Victoria
CATEGORIES:Workshops
ATTACH;FMTTYPE=image/jpeg:https://hanyaoversby.com.au/wp-content/uploads/2020/03/practice-succession.jpg
END:VEVENT
BEGIN:VEVENT
DTSTART;TZID=UTC:20201024T083000
DTEND;TZID=UTC:20201024T133000
DTSTAMP:20260420T180910
CREATED:20200313T115735Z
LAST-MODIFIED:20200622T013533Z
UID:10000072-1603528200-1603546200@hanyaoversby.com.au
SUMMARY:Practice Growth Strategies\, Software\, Data Science & Business Intelligence (Cancelled due to COVID-19)
DESCRIPTION:In this workshop Hanya will help explain how to effectively and consistently convert high income into appreciating assets that will provide for your desired lifestyle now and into retirement\, as well as help establish a platform for intergenerational success.
URL:https://hanyaoversby.com.au/event/practice-growth-strategies-software-data-science-business-intelligence/
LOCATION:Hilton Adelaide\, 233 Victoria Square\, Adelaide\, South Australia
CATEGORIES:Workshops
ATTACH;FMTTYPE=image/jpeg:https://hanyaoversby.com.au/wp-content/uploads/2020/03/practice-growth-strategies-adelaide.jpg
END:VEVENT
BEGIN:VEVENT
DTSTART;TZID=Australia/Melbourne:20210226T080000
DTEND;TZID=Australia/Melbourne:20210227T133000
DTSTAMP:20260420T180910
CREATED:20210322T031633Z
LAST-MODIFIED:20210322T032019Z
UID:10000081-1614326400-1614432600@hanyaoversby.com.au
SUMMARY:The Private Practice Intensive Masterclasses
DESCRIPTION:Education and training for healthcare professionals on ‘the business of being in business’.
URL:https://hanyaoversby.com.au/event/the-private-practice-intensive-masterclasses/
LOCATION:QT Sydney\, 49 Market Street\, Sydney\, NSW\, 200\, Australia
CATEGORIES:Workshops
ATTACH;FMTTYPE=image/png:https://hanyaoversby.com.au/wp-content/uploads/2021/03/private-practice-intensive-masterclass.png
END:VEVENT
BEGIN:VEVENT
DTSTART;TZID=Australia/Melbourne:20220225T083000
DTEND;TZID=Australia/Melbourne:20220227T173000
DTSTAMP:20260420T180910
CREATED:20220413T080116Z
LAST-MODIFIED:20220413T080116Z
UID:10000088-1645777800-1645983000@hanyaoversby.com.au
SUMMARY:Australasian Society of Cosmetic Dermatologists - ASCD Symposium
DESCRIPTION:We are delighted to announce that episodes of The Doctor Diaries Podcast with Hanya Oversby will be recorded live at the ASCD Symposium 2022. \nSymposium highlights include: \n\nInternational Keynote Speakers\nPlenary sessions\nThe Science of Beauty\nTechnology and our profession – are we dumbing down?\nComplications Management\nControversies\nThe Business of Aesthetic Medicine\nWhat’s Hot?\nPanel Discussions\, game shows and other learning experiences\nThe best of what we have seen\, heard and read in the last 12 months\nTrade Interaction with Companies Presenting the Latest in Devices and Cosmeceuticals
URL:https://hanyaoversby.com.au/event/australasian-society-of-cosmetic-dermatologists-ascd-symposium/
LOCATION:Crown Conference Centre Melbourne\, 8 Whiteman Street\, Southbank\, Victoria\, 3006\, Australia
CATEGORIES:Workshops
ATTACH;FMTTYPE=image/jpeg:https://hanyaoversby.com.au/wp-content/uploads/2022/04/australasian-society-of-cosmetic-dermatologists.jpg
END:VEVENT
BEGIN:VEVENT
DTSTART;TZID=Australia/Melbourne:20220610T083000
DTEND;TZID=Australia/Melbourne:20220612T160000
DTSTAMP:20260420T180910
CREATED:20220413T073516Z
LAST-MODIFIED:20220413T074301Z
UID:10000087-1654849800-1655049600@hanyaoversby.com.au
SUMMARY:Practice Succession and Retirement Planning - Annual Retreat
DESCRIPTION:Over two highly interactive days and evenings\, practice principals will be guided through the important business and financial decisions and strategies that will significantly impact their quality of life and the effectiveness of their intergenerational wealth platform. \nA retreat in every sense of the word\, this unique learning and lifestyle experience is set in the historic and iconic Mounty Lofty House\, nestled in the heart of the stunningly beautiful Adelaide Hills wine country. Our venue perfectly complements our retreat agenda and offers doctors and their spouses the opportunity to step away from the practice to evaluate the next steps to realise the saleable value of their business and plan for their retirement.
URL:https://hanyaoversby.com.au/event/practice-succession-and-retirement-planning-annual-retreat/
LOCATION:Mount Lofty House\, 1 Mawson Drive\, Crafters\, South Australia\, Australia
CATEGORIES:Workshops
ATTACH;FMTTYPE=image/jpeg:https://hanyaoversby.com.au/wp-content/uploads/2022/04/practice-succession-and-retirement-planning.jpg
END:VEVENT
END:VCALENDAR