BEGIN:VCALENDAR
VERSION:2.0
PRODID:-//Hanya Oversby - ECPv6.15.20//NONSGML v1.0//EN
CALSCALE:GREGORIAN
METHOD:PUBLISH
X-ORIGINAL-URL:https://hanyaoversby.com.au
X-WR-CALDESC:Events for Hanya Oversby
REFRESH-INTERVAL;VALUE=DURATION:PT1H
X-Robots-Tag:noindex
X-PUBLISHED-TTL:PT1H
BEGIN:VTIMEZONE
TZID:Australia/Melbourne
BEGIN:STANDARD
TZOFFSETFROM:+1100
TZOFFSETTO:+1000
TZNAME:AEST
DTSTART:20200404T160000
END:STANDARD
BEGIN:DAYLIGHT
TZOFFSETFROM:+1000
TZOFFSETTO:+1100
TZNAME:AEDT
DTSTART:20201003T160000
END:DAYLIGHT
BEGIN:STANDARD
TZOFFSETFROM:+1100
TZOFFSETTO:+1000
TZNAME:AEST
DTSTART:20210403T160000
END:STANDARD
BEGIN:DAYLIGHT
TZOFFSETFROM:+1000
TZOFFSETTO:+1100
TZNAME:AEDT
DTSTART:20211002T160000
END:DAYLIGHT
BEGIN:STANDARD
TZOFFSETFROM:+1100
TZOFFSETTO:+1000
TZNAME:AEST
DTSTART:20220402T160000
END:STANDARD
BEGIN:DAYLIGHT
TZOFFSETFROM:+1000
TZOFFSETTO:+1100
TZNAME:AEDT
DTSTART:20221001T160000
END:DAYLIGHT
END:VTIMEZONE
BEGIN:VEVENT
DTSTART;TZID=Australia/Melbourne:20210226T080000
DTEND;TZID=Australia/Melbourne:20210227T133000
DTSTAMP:20260420T083301
CREATED:20210322T031633Z
LAST-MODIFIED:20210322T032019Z
UID:10000081-1614326400-1614432600@hanyaoversby.com.au
SUMMARY:The Private Practice Intensive Masterclasses
DESCRIPTION:Education and training for healthcare professionals on ‘the business of being in business’.
URL:https://hanyaoversby.com.au/event/the-private-practice-intensive-masterclasses/
LOCATION:QT Sydney\, 49 Market Street\, Sydney\, NSW\, 200\, Australia
CATEGORIES:Workshops
ATTACH;FMTTYPE=image/png:https://hanyaoversby.com.au/wp-content/uploads/2021/03/private-practice-intensive-masterclass.png
END:VEVENT
END:VCALENDAR