BEGIN:VCALENDAR
VERSION:2.0
PRODID:-//Hanya Oversby - ECPv6.15.20//NONSGML v1.0//EN
CALSCALE:GREGORIAN
METHOD:PUBLISH
X-ORIGINAL-URL:https://hanyaoversby.com.au
X-WR-CALDESC:Events for Hanya Oversby
REFRESH-INTERVAL;VALUE=DURATION:PT1H
X-Robots-Tag:noindex
X-PUBLISHED-TTL:PT1H
BEGIN:VTIMEZONE
TZID:UTC
BEGIN:STANDARD
TZOFFSETFROM:+0000
TZOFFSETTO:+0000
TZNAME:UTC
DTSTART:20190101T000000
END:STANDARD
END:VTIMEZONE
BEGIN:VEVENT
DTSTART;TZID=UTC:20201024T083000
DTEND;TZID=UTC:20201024T133000
DTSTAMP:20260420T144444
CREATED:20200313T115735Z
LAST-MODIFIED:20200622T013533Z
UID:10000072-1603528200-1603546200@hanyaoversby.com.au
SUMMARY:Practice Growth Strategies\, Software\, Data Science & Business Intelligence (Cancelled due to COVID-19)
DESCRIPTION:In this workshop Hanya will help explain how to effectively and consistently convert high income into appreciating assets that will provide for your desired lifestyle now and into retirement\, as well as help establish a platform for intergenerational success.
URL:https://hanyaoversby.com.au/event/practice-growth-strategies-software-data-science-business-intelligence/
LOCATION:Hilton Adelaide\, 233 Victoria Square\, Adelaide\, South Australia
CATEGORIES:Workshops
ATTACH;FMTTYPE=image/jpeg:https://hanyaoversby.com.au/wp-content/uploads/2020/03/practice-growth-strategies-adelaide.jpg
END:VEVENT
END:VCALENDAR