BEGIN:VCALENDAR
VERSION:2.0
PRODID:-//Hanya Oversby - ECPv6.15.20//NONSGML v1.0//EN
CALSCALE:GREGORIAN
METHOD:PUBLISH
X-ORIGINAL-URL:https://hanyaoversby.com.au
X-WR-CALDESC:Events for Hanya Oversby
REFRESH-INTERVAL;VALUE=DURATION:PT1H
X-Robots-Tag:noindex
X-PUBLISHED-TTL:PT1H
BEGIN:VTIMEZONE
TZID:UTC
BEGIN:STANDARD
TZOFFSETFROM:+0000
TZOFFSETTO:+0000
TZNAME:UTC
DTSTART:20170101T000000
END:STANDARD
END:VTIMEZONE
BEGIN:VTIMEZONE
TZID:Australia/Melbourne
BEGIN:STANDARD
TZOFFSETFROM:+1100
TZOFFSETTO:+1000
TZNAME:AEST
DTSTART:20210403T160000
END:STANDARD
BEGIN:DAYLIGHT
TZOFFSETFROM:+1000
TZOFFSETTO:+1100
TZNAME:AEDT
DTSTART:20211002T160000
END:DAYLIGHT
BEGIN:STANDARD
TZOFFSETFROM:+1100
TZOFFSETTO:+1000
TZNAME:AEST
DTSTART:20220402T160000
END:STANDARD
BEGIN:DAYLIGHT
TZOFFSETFROM:+1000
TZOFFSETTO:+1100
TZNAME:AEDT
DTSTART:20221001T160000
END:DAYLIGHT
BEGIN:STANDARD
TZOFFSETFROM:+1100
TZOFFSETTO:+1000
TZNAME:AEST
DTSTART:20230401T160000
END:STANDARD
BEGIN:DAYLIGHT
TZOFFSETFROM:+1000
TZOFFSETTO:+1100
TZNAME:AEDT
DTSTART:20230930T160000
END:DAYLIGHT
END:VTIMEZONE
BEGIN:VEVENT
DTSTART;TZID=UTC:20180303T083000
DTEND;TZID=UTC:20180304T170000
DTSTAMP:20260420T225855
CREATED:20180306T183830Z
LAST-MODIFIED:20180313T103525Z
UID:10000048-1520065800-1520182800@hanyaoversby.com.au
SUMMARY:Cutera University Clinical Forum 2018
DESCRIPTION:The Cutera ANZ team is pleased to invite you to Cutera University Clinical Forum 2018\, an exclusive event for innovative practitioners. \nThe 2018 program features presentations by a panel of renowned practitioners and aesthetic innovators\, lead by Jill Lezaic\, MD.
URL:https://hanyaoversby.com.au/event/cutera-university-clinical-forum-2018/
LOCATION:Sofitel Melbourne\, 25 Collins Street\, Melbourne\, Vic\, 3000\, Australia
CATEGORIES:Forum
ATTACH;FMTTYPE=image/jpeg:https://hanyaoversby.com.au/wp-content/uploads/2018/03/hanya-oversby-course-presenter-cutera-700.jpg
END:VEVENT
BEGIN:VEVENT
DTSTART;TZID=Australia/Melbourne:20220818T083000
DTEND;TZID=Australia/Melbourne:20220821T173000
DTSTAMP:20260420T225855
CREATED:20220413T082843Z
LAST-MODIFIED:20220413T082843Z
UID:10000090-1660811400-1661103000@hanyaoversby.com.au
SUMMARY:Disruption in Healthcare - Emerging Business & Lifestyle Models - Study Tour
DESCRIPTION:Disruption in Healthcare and re-evaluating our role as healthcare providers\, the business models required for success and the specific systems and initiatives needed for positioning our practices as truly patient centric.
URL:https://hanyaoversby.com.au/event/disruption-in-healthcare-emerging-business-lifestyle-models-study-tour/
LOCATION:Hobart & Freycinet\, Tasmania\, Australia
CATEGORIES:Forum
ATTACH;FMTTYPE=image/jpeg:https://hanyaoversby.com.au/wp-content/uploads/2022/04/emerging-business-lifestyle-models.jpg
END:VEVENT
END:VCALENDAR